Workbook

Sheet So Tay
A1: KẾT QUẢ HỌC TẬP
A2: LỚP: | C2: 15CĐ - CTM4 | F2: HỌC KỲ | H2: II | J2: Năm học: | K2: 2016 - 2017
A3: HỌC PHẦN: | C3: MÁY CẮT KIM LOẠI | J3: Số tín chỉ: | K3: 3
A5: TT | B5: Họ và tên | D5: Điểm | M5: 1
D6: Kiểm tra | K6: Thi kết thúc học phần | L6: Điểm học phần
D7: Hệ số 1 | H7: Hệ số 2 | J7: Điểm TB
A8: 1 | B8: Võ Văn | C8: Định | D8: 5 | G8: =(D8/30)*(30-'Diem Danh'!X4) -> 5 | I8: =(G8+D8)/2 -> 5 | J8: =ROUND(((G8*20)+(I8*30))/50,1) -> 5 | L8: =(ROUND((J8+K8)/2,1)) -> 2.5
A9: 2 | B9: Huỳnh Nguyễn Hoàng | C9: Hưng | D9: 6 | G9: 5 | I9: 6 | J9: =ROUND(((G9*20)+(I9*30))/50,1) -> 5.6 | K9: k | L9: =(ROUND((J9+K9)/2,1)) -> #VALUE! | N9: Cấm Thi
A10: 3 | B10: Nguyễn Quang | C10: Huy | D10: 6 | G10: 5 | I10: 6 | J10: =ROUND(((G10*20)+(I10*30))/50,1) -> 5.6 | L10: =(ROUND((J10+K10)/2,1)) -> 2.8 | N10: 0
A11: 4 | B11: Nguyễn Công | C11: Khoa | D11: 8 | G11: 7 | I11: =(G11+D11)/2 -> 7.5 | J11: =ROUND(((G11*20)+(I11*30))/50,1) -> 7.3 | L11: =(ROUND((J11+K11)/2,1)) -> 3.7 | N11: 0
A12: 5 | B12: Vương Nhân | C12: Kiên | D12: 6 | G12: 6 | I12: 6 | J12: =ROUND(((G12*20)+(I12*30))/50,1) -> 6 | L12: =(ROUND((J12+K12)/2,1)) -> 3 | N12: 0
A13: 6 | B13: Hồ Tấn | C13: Lộc | D13: 6 | G13: 5 | I13: 6 | J13: =ROUND(((G13*20)+(I13*30))/50,1) -> 5.6 | L13: =(ROUND((J13+K13)/2,1)) -> 2.8 | N13: Cấm Thi
A14: 7 | B14: Võ Kim | C14: Long | D14: 7 | G14: 5 | I14: 6 | J14: =ROUND(((G14*20)+(I14*30))/50,1) -> 5.6 | L14: =(ROUND((J14+K14)/2,1)) -> 2.8 | N14: 0
A15: 8 | B15: Trần Quốc | C15: Mạnh | D15: 7 | G15: 6 | I15: 6.5 | J15: =ROUND(((G15*20)+(I15*30))/50,1) -> 6.3 | K15: k | L15: =(ROUND((J15+K15)/2,1)) -> #VALUE! | N15: 0
A16: 9 | B16: Hà Triệu Ái | C16: Nhân | D16: 6 | G16: 5 | I16: 6 | J16: =ROUND(((G16*20)+(I16*30))/50,1) -> 5.6 | L16: =(ROUND((J16+K16)/2,1)) -> 2.8 | N16: 0
A17: 10 | B17: Lê Minh | C17: Nhật | D17: 7 | G17: 5 | I17: 6 | J17: =ROUND(((G17*20)+(I17*30))/50,1) -> 5.6 | L17: =(ROUND((J17+K17)/2,1)) -> 2.8 | N17: 0
A18: 11 | B18: Nguyễn Hoài | C18: Phong | D18: 0 | G18: =(D18/30)*(30-'Diem Danh'!X14) -> 0 | I18: =(G18+D18)/2 -> 0 | J18: =ROUND(((G18*20)+(I18*30))/50,1) -> 0 | L18: =(ROUND((J18+K18)/2,1)) -> 0 | N18: 0
A19: 12 | B19: Lê Thành | C19: Phú | D19: 8 | G19: 7 | I19: 7.5 | J19: =ROUND(((G19*20)+(I19*30))/50,1) -> 7.3 | L19: =(ROUND((J19+K19)/2,1)) -> 3.7 | N19: 0
A20: 13 | B20: Phan Xuân | C20: Phú | D20: 6 | G20: 6 | I20: 6 | J20: =ROUND(((G20*20)+(I20*30))/50,1) -> 6 | K20: k | L20: =(ROUND((J20+K20)/2,1)) -> #VALUE! | N20: 0
A21: 14 | B21: Nguyễn Nhật | C21: Quang | D21: 0 | G21: 0 | I21: 0 | J21: =ROUND(((G21*20)+(I21*30))/50,1) -> 0 | L21: =(ROUND((J21+K21)/2,1)) -> 0 | N21: Cấm Thi
A22: 15 | B22: Mạch Quốc | C22: Thắng | D22: 6 | G22: 6 | I22: 6 | J22: =ROUND(((G22*20)+(I22*30))/50,1) -> 6 | L22: =(ROUND((J22+K22)/2,1)) -> 3 | N22: 0
A23: 16 | B23: Nguyễn Văn | C23: Tình | D23: 6 | G23: 5 | I23: 6 | J23: =ROUND(((G23*20)+(I23*30))/50,1) -> 5.6 | L23: =(ROUND((J23+K23)/2,1)) -> 2.8 | N23: 0
A24: 17 | N24: 0
A25: 18 | N25: Cấm Thi
A26: 19 | N26: 0
A27: 20 | N27: 0
A28: 21 | N28: 0
A29: 22 | N29: 0
A30: 23 | N30: 0
A31: 24 | N31: Cấm Thi
A32: 25 | N32: 0
A33: 26 | N33: 0
A34: 27 | N34: 0
A35: 28 | N35: 0
A36: 29 | N36: Cấm Thi
A37: 30 | N37: 0
A38: 31 | N38: Cấm Thi
A39: 32 | N39: 0
A40: 33 | N40: 0
A41: 34 | N41: 0
A42: 35 | N42: Cấm Thi
A43: 36 | N43: 0
A44: 37 | N44: 0
A45: 38 | N45: 0
A46: 39 | N46: 0
A47: 40 | N47: Cấm Thi
A48: 41 | N48: 0
A49: 41 | N49: 0
A50: 42 | N50: Cấm Thi
A51: 43 | N51: 0
A52: 44 | N52: 0
A53: 45 | N53: 0
A54: 46 | N54: 0
A55: 47 | N55: 0
A56: 48 | N56: 0
A57: 49 | N57: 0
A58: 50 | N58: Cấm Thi
A59: 51 | N59: 0
A60: 52 | N60: Cấm Thi
A61: 53 | N61: Cấm Thi
N62: Cấm Thi
A67: Tổng số | D67: Điểm ≥ 5: | F67: =P72 -> 0 | H67: Điểm < 5: | J67: =R72 -> 12
A68: % | F68: =Q72/100 -> 0 | J68: =S72/100 -> 1
M70: Tổng hợp | N70: Sĩ số | O70: % | P70: Đạt yêu cầu | R70: Yếu+Kém
M71: đạt / không đạt | P71: SốHS | Q71: % | R71: SốHS | S71: %
N72: =COUNTIF(L9:L66,"<=20") -> 12 | O72: =Q72+S72 -> 100 | P72: =COUNTIF(L9:L66,">=5") -> 0 | Q72: =ROUND(P72*100/N72,1) -> 0 | R72: =COUNTIF(L9:L66,"<5") -> 12 | S72: =ROUND(R72*100/N72,1) -> 100

Sheet T.Nghi
A1: THEO DÕI NGÀY HỌC TẬP
B5: NGÀY | Q5: Tổng số
B6: 15/3 | C6: 22/3 | D6: 29/3 | E6: 05/4 | F6: 12/4 | G6: 19/4 | H6: 26/4 | I6: 03/5 | Q6: Không | R6: Phép | S6: 30 | W6: 25/9/15
A7: 1 | Q7: =COUNTIF(B7:P7,"k")*3+COUNTIF(B7:P7,">=15")+COUNTIF(B7:P7,"BT")*10 -> 0 | R7: =COUNTIF(B7:P7,"P")*1.5 -> 0 | S7: =S$6-Q7 -> 30 | T7: Võ Văn | U7: Định | V7: 1
A8: 2 | H8: k | Q8: =COUNTIF(B8:P8,"k")*3+COUNTIF(B8:P8,">=15")+COUNTIF(B8:P8,"BT")*10 -> 3 | R8: =COUNTIF(B8:P8,"P")*1.5 -> 0 | S8: =S$6-Q8 -> 27 | T8: Huỳnh Nguyễn Hoàng | U8: Hưng | V8: 2
A9: 3 | G9: k | Q9: =COUNTIF(B9:P9,"k")*3+COUNTIF(B9:P9,">=15")+COUNTIF(B9:P9,"BT")*10 -> 3 | R9: =COUNTIF(B9:P9,"P")*1.5 -> 0 | S9: =S$6-Q9 -> 27 | T9: Nguyễn Quang | U9: Huy | V9: 3
A10: 4 | I10: k | Q10: =COUNTIF(B10:P10,"k")*3+COUNTIF(B10:P10,">=15")+COUNTIF(B10:P10,"BT")*10 -> 3 | R10: =COUNTIF(B10:P10,"P")*1.5 -> 0 | S10: =S$6-Q10 -> 27 | T10: Nguyễn Công | U10: Khoa | V10: 4
A11: 5 | Q11: =COUNTIF(B11:P11,"k")*3+COUNTIF(B11:P11,">=15")+COUNTIF(B11:P11,"BT")*10 -> 0 | R11: =COUNTIF(B11:P11,"P")*1.5 -> 0 | S11: =S$6-Q11 -> 30 | T11: Vương Nhân | U11: Kiên | V11: 5
A12: 6 | C12: k | Q12: =COUNTIF(B12:P12,"k")*3+COUNTIF(B12:P12,">=15")+COUNTIF(B12:P12,"BT")*10 -> 3 | R12: =COUNTIF(B12:P12,"P")*1.5 -> 0 | S12: =S$6-Q12 -> 27 | T12: Hồ Tấn | U12: Lộc | V12: 6
A13: 8 | G13: k | I13: k | Q13: =COUNTIF(B13:P13,"k")*3+COUNTIF(B13:P13,">=15")+COUNTIF(B13:P13,"BT")*10 -> 6 | R13: =COUNTIF(B13:P13,"P")*1.5 -> 0 | S13: =S$6-Q13 -> 24 | T13: Võ Kim | U13: Long | V13: 7
A14: 7 | C14: k | Q14: =COUNTIF(B14:P14,"k")*3+COUNTIF(B14:P14,">=15")+COUNTIF(B14:P14,"BT")*10 -> 3 | R14: =COUNTIF(B14:P14,"P")*1.5 -> 0 | S14: =S$6-Q14 -> 27 | T14: Trần Quốc | U14: Mạnh | V14: 8
A15: 9 | I15: k | Q15: =COUNTIF(B15:P15,"k")*3+COUNTIF(B15:P15,">=15")+COUNTIF(B15:P15,"BT")*10 -> 3 | R15: =COUNTIF(B15:P15,"P")*1.5 -> 0 | S15: =S$6-Q15 -> 27 | T15: Hà Triệu Ái | U15: Nhân | V15: 9
A16: 10 | C16: k | H16: k | Q16: =COUNTIF(B16:P16,"k")*3+COUNTIF(B16:P16,">=15")+COUNTIF(B16:P16,"BT")*10 -> 6 | R16: =COUNTIF(B16:P16,"P")*1.5 -> 0 | S16: =S$6-Q16 -> 24 | T16: Lê Minh | U16: Nhật | V16: 10
A17: 11 | C17: k | G17: k | H17: k | I17: k | Q17: =COUNTIF(B17:P17,"k")*3+COUNTIF(B17:P17,">=15")+COUNTIF(B17:P17,"BT")*10 -> 12 | R17: =COUNTIF(B17:P17,"P")*1.5 -> 0 | S17: =S$6-Q17 -> 18 | T17: Nguyễn Hoài | U17: Phong | V17: 11
A18: 12 | Q18: =COUNTIF(B18:P18,"k")*3+COUNTIF(B18:P18,">=15")+COUNTIF(B18:P18,"BT")*10 -> 0 | R18: =COUNTIF(B18:P18,"P")*1.5 -> 0 | S18: =S$6-Q18 -> 30 | T18: Lê Thành | U18: Phú | V18: 12
A19: 13 | Q19: =COUNTIF(B19:P19,"k")*3+COUNTIF(B19:P19,">=15")+COUNTIF(B19:P19,"BT")*10 -> 0 | R19: =COUNTIF(B19:P19,"P")*1.5 -> 0 | S19: =S$6-Q19 -> 30 | T19: Phan Xuân | U19: Phú | V19: 13
A20: 14 | C20: k | G20: k | H20: k | I20: k | Q20: =COUNTIF(B20:P20,"k")*3+COUNTIF(B20:P20,">=15")+COUNTIF(B20:P20,"BT")*10 -> 12 | R20: =COUNTIF(B20:P20,"P")*1.5 -> 0 | S20: =S$6-Q20 -> 18 | T20: Nguyễn Nhật | U20: Quang | V20: 14
A21: 15 | Q21: =COUNTIF(B21:P21,"k")*3+COUNTIF(B21:P21,">=15")+COUNTIF(B21:P21,"BT")*10 -> 0 | R21: =COUNTIF(B21:P21,"P")*1.5 -> 0 | S21: =S$6-Q21 -> 30 | T21: Mạch Quốc | U21: Thắng | V21: 15
A22: 16 | H22: k | Q22: =COUNTIF(B22:P22,"k")*3+COUNTIF(B22:P22,">=15")+COUNTIF(B22:P22,"BT")*10 -> 3 | R22: =COUNTIF(B22:P22,"P")*1.5 -> 0 | S22: =S$6-Q22 -> 27 | T22: Nguyễn Văn | U22: Tình | V22: 16
A23: 17 | Q23: =COUNTIF(B23:P23,"k")*3+COUNTIF(B23:P23,">=15")+COUNTIF(B23:P23,"BT")*10 -> 0 | R23: =COUNTIF(B23:P23,"P")*1.5 -> 0 | S23: =S$6-Q23 -> 30 | V23: 17
A24: 18 | Q24: =COUNTIF(B24:P24,"k")*3+COUNTIF(B24:P24,">=15")+COUNTIF(B24:P24,"BT")*10 -> 0 | R24: =COUNTIF(B24:P24,"P")*1.5 -> 0 | S24: =S$6-Q24 -> 30 | V24: 18
A25: 19 | Q25: =COUNTIF(B25:P25,"k")*3+COUNTIF(B25:P25,">=15")+COUNTIF(B25:P25,"BT")*10 -> 0 | R25: =COUNTIF(B25:P25,"P")*1.5 -> 0 | S25: =S$6-Q25 -> 30 | V25: 19
A26: 20 | Q26: =COUNTIF(B26:P26,"k")*3+COUNTIF(B26:P26,">=15")+COUNTIF(B26:P26,"BT")*10 -> 0 | R26: =COUNTIF(B26:P26,"P")*1.5 -> 0 | S26: =S$6-Q26 -> 30 | V26: 20
A27: 21 | Q27: =COUNTIF(B27:P27,"k")*3+COUNTIF(B27:P27,">=15")+COUNTIF(B27:P27,"BT")*10 -> 0 | R27: =COUNTIF(B27:P27,"P")*1.5 -> 0 | S27: =S$6-Q27 -> 30 | V27: 21
A28: 22 | Q28: =COUNTIF(B28:P28,"k")*3+COUNTIF(B28:P28,">=15")+COUNTIF(B28:P28,"BT")*10 -> 0 | R28: =COUNTIF(B28:P28,"P")*1.5 -> 0 | S28: =S$6-Q28 -> 30 | V28: 22
A29: 23 | Q29: =COUNTIF(B29:P29,"k")*3+COUNTIF(B29:P29,">=15")+COUNTIF(B29:P29,"BT")*10 -> 0 | R29: =COUNTIF(B29:P29,"P")*1.5 -> 0 | S29: =S$6-Q29 -> 30 | V29: 23
A30: 24 | Q30: =COUNTIF(B30:P30,"k")*3+COUNTIF(B30:P30,">=15")+COUNTIF(B30:P30,"BT")*10 -> 0 | R30: =COUNTIF(B30:P30,"P")*1.5 -> 0 | S30: =S$6-Q30 -> 30 | V30: 24
A31: 25 | Q31: =COUNTIF(B31:P31,"k")*3+COUNTIF(B31:P31,">=15")+COUNTIF(B31:P31,"BT")*10 -> 0 | R31: =COUNTIF(B31:P31,"P")*1.5 -> 0 | S31: =S$6-Q31 -> 30 | V31: 25
A32: 26 | Q32: =COUNTIF(B32:P32,"k")*3+COUNTIF(B32:P32,">=15")+COUNTIF(B32:P32,"BT")*10 -> 0 | R32: =COUNTIF(B32:P32,"P")*1.5 -> 0 | S32: =S$6-Q32 -> 30 | V32: 26
A33: 27 | O33: 6 | Q33: =COUNTIF(B33:P33,"k")*3+COUNTIF(B33:P33,">=15")+COUNTIF(B33:P33,"BT")*10 -> 0 | R33: =COUNTIF(B33:P33,"P")*1.5 -> 0 | S33: =S$6-Q33 -> 30 | V33: 27
A34: 28 | Q34: =COUNTIF(B34:P34,"k")*3+COUNTIF(B34:P34,">=15")+COUNTIF(B34:P34,"BT")*10 -> 0 | R34: =COUNTIF(B34:P34,"P")*1.5 -> 0 | S34: =S$6-Q34 -> 30 | V34: 28
A35: 29 | O35: 6 | Q35: =COUNTIF(B35:P35,"k")*3+COUNTIF(B35:P35,">=15")+COUNTIF(B35:P35,"BT")*10 -> 0 | R35: =COUNTIF(B35:P35,"P")*1.5 -> 0 | S35: =S$6-Q35 -> 30 | V35: 29
A36: 30 | Q36: =COUNTIF(B36:P36,"k")*3+COUNTIF(B36:P36,">=15")+COUNTIF(B36:P36,"BT")*10 -> 0 | R36: =COUNTIF(B36:P36,"P")*1.5 -> 0 | S36: =S$6-Q36 -> 30 | V36: 30
A37: 31 | Q37: =COUNTIF(B37:P37,"k")*3+COUNTIF(B37:P37,">=15")+COUNTIF(B37:P37,"BT")*10 -> 0 | R37: =COUNTIF(B37:P37,"P")*1.5 -> 0 | S37: =S$6-Q37 -> 30 | V37: 31
A38: 32 | Q38: =COUNTIF(B38:P38,"k")*3+COUNTIF(B38:P38,">=15")+COUNTIF(B38:P38,"BT")*10 -> 0 | R38: =COUNTIF(B38:P38,"P")*1.5 -> 0 | S38: =S$6-Q38 -> 30 | V38: 32
A39: 33 | Q39: =COUNTIF(B39:P39,"k")*3+COUNTIF(B39:P39,">=15")+COUNTIF(B39:P39,"BT")*10 -> 0 | R39: =COUNTIF(B39:P39,"P")*1.5 -> 0 | S39: =S$6-Q39 -> 30 | V39: 33
A40: 34 | Q40: =COUNTIF(B40:P40,"k")*3+COUNTIF(B40:P40,">=15")+COUNTIF(B40:P40,"BT")*10 -> 0 | R40: =COUNTIF(B40:P40,"P")*1.5 -> 0 | S40: =S$6-Q40 -> 30 | V40: 34
A41: 35 | Q41: =COUNTIF(B41:P41,"k")*3+COUNTIF(B41:P41,">=15")+COUNTIF(B41:P41,"BT")*10 -> 0 | R41: =COUNTIF(B41:P41,"P")*1.5 -> 0 | S41: =S$6-Q41 -> 30 | V41: 35
A42: 36 | Q42: =COUNTIF(B42:P42,"k")*3+COUNTIF(B42:P42,">=15")+COUNTIF(B42:P42,"BT")*10 -> 0 | R42: =COUNTIF(B42:P42,"P")*1.5 -> 0 | S42: =S$6-Q42 -> 30 | V42: 36
A43: 37 | Q43: =COUNTIF(B43:P43,"k")*3+COUNTIF(B43:P43,">=15")+COUNTIF(B43:P43,"BT")*10 -> 0 | R43: =COUNTIF(B43:P43,"P")*1.5 -> 0 | S43: =S$6-Q43 -> 30 | V43: 37
A44: 38 | Q44: =COUNTIF(B44:P44,"k")*3+COUNTIF(B44:P44,">=15")+COUNTIF(B44:P44,"BT")*10 -> 0 | R44: =COUNTIF(B44:P44,"P")*1.5 -> 0 | S44: =S$6-Q44 -> 30 | V44: 38
A45: 39 | Q45: =COUNTIF(B45:P45,"k")*3+COUNTIF(B45:P45,">=15")+COUNTIF(B45:P45,"BT")*10 -> 0 | R45: =COUNTIF(B45:P45,"P")*1.5 -> 0 | S45: =S$6-Q45 -> 30 | V45: 39
A46: 40 | Q46: =COUNTIF(B46:P46,"k")*3+COUNTIF(B46:P46,">=15")+COUNTIF(B46:P46,"BT")*10 -> 0 | R46: =COUNTIF(B46:P46,"P")*1.5 -> 0 | S46: =S$6-Q46 -> 30 | V46: 40
A47: 41 | Q47: =COUNTIF(B47:P47,"k")*3+COUNTIF(B47:P47,">=15")+COUNTIF(B47:P47,"BT")*10 -> 0 | R47: =COUNTIF(B47:P47,"P")*1.5 -> 0 | S47: =S$6-Q47 -> 30 | V47: 41
A48: 42 | Q48: =COUNTIF(B48:P48,"K")*3+COUNTIF(B48:P48,">=15")+COUNTIF(B48:P48,"BT")*10 -> 0 | R48: =COUNTIF(B48:P48,"P")*1.5 -> 0 | V48: 42
A49: 43 | Q49: =COUNTIF(B49:P49,"K")*3+COUNTIF(B49:P49,">=15")+COUNTIF(B49:P49,"BT")*10 -> 0 | R49: =COUNTIF(B49:P49,"P")*1.5 -> 0 | V49: 43
A50: 44 | Q50: =COUNTIF(B50:P50,"K")*3+COUNTIF(B50:P50,">=15")+COUNTIF(B50:P50,"BT")*10 -> 0 | R50: =COUNTIF(B50:P50,"P")*1.5 -> 0 | V50: 44
A51: 45 | Q51: =COUNTIF(B51:P51,"K")*3+COUNTIF(B51:P51,">=15")+COUNTIF(B51:P51,"BT")*10 -> 0 | R51: =COUNTIF(B51:P51,"P")*1.5 -> 0 | V51: 45
A52: 46 | Q52: =COUNTIF(B52:P52,"K")*3+COUNTIF(B52:P52,">=15")+COUNTIF(B52:P52,"BT")*10 -> 0 | R52: =COUNTIF(B52:P52,"P")*1.5 -> 0 | V52: 46
A53: 47 | Q53: =COUNTIF(B53:P53,"K")*3+COUNTIF(B53:P53,">=15")+COUNTIF(B53:P53,"BT")*10 -> 0 | R53: =COUNTIF(B53:P53,"P")*1.5 -> 0 | V53: 47
A54: 48 | Q54: =COUNTIF(B54:P54,"K")*3+COUNTIF(B54:P54,">=15")+COUNTIF(B54:P54,"BT")*10 -> 0 | R54: =COUNTIF(B54:P54,"P")*1.5 -> 0 | V54: 48
A55: 49 | Q55: =COUNTIF(B55:P55,"K")*3+COUNTIF(B55:P55,">=15")+COUNTIF(B55:P55,"BT")*10 -> 0 | R55: =COUNTIF(B55:P55,"P")*1.5 -> 0 | V55: 49
A56: 50 | Q56: =COUNTIF(B56:P56,"K")*3+COUNTIF(B56:P56,">=15")+COUNTIF(B56:P56,"BT")*10 -> 0 | R56: =COUNTIF(B56:P56,"P")*1.5 -> 0 | V56: 50
A57: 51 | Q57: =COUNTIF(B57:P57,"K")*3+COUNTIF(B57:P57,">=15")+COUNTIF(B57:P57,"BT")*10 -> 0 | R57: =COUNTIF(B57:P57,"P")*1.5 -> 0 | V57: 51
A58: 52 | Q58: =COUNTIF(B58:P58,"K")*3+COUNTIF(B58:P58,">=15")+COUNTIF(B58:P58,"BT")*10 -> 0 | R58: =COUNTIF(B58:P58,"P")*1.5 -> 0 | V58: 52
A59: 53 | Q59: =COUNTIF(B59:P59,"K")*3+COUNTIF(B59:P59,">=15")+COUNTIF(B59:P59,"BT")*10 -> 0 | R59: =COUNTIF(B59:P59,"P")*1.5 -> 0 | V59: 53
A60: 54 | Q60: =COUNTIF(B60:P60,"K")*3+COUNTIF(B60:P60,">=15")+COUNTIF(B60:P60,"BT")*10 -> 0 | R60: =COUNTIF(B60:P60,"P")*1.5 -> 0 | V60: 54 | X60: 14CK1 | Y60: Học lại
A61: 55 | Q61: =COUNTIF(B61:P61,"K")*3+COUNTIF(B61:P61,">=15")+COUNTIF(B61:P61,"BT")*10 -> 0 | R61: =COUNTIF(B61:P61,"P")*1.5 -> 0 | V61: 55
A62: 56 | Q62: =COUNTIF(B62:P62,"K")*3+COUNTIF(B62:P62,">=15")+COUNTIF(B62:P62,"BT")*10 -> 0 | R62: =COUNTIF(B62:P62,"P")*1.5 -> 0 | V62: 56
A63: 57 | Q63: =COUNTIF(B63:P63,"K")*3+COUNTIF(B63:P63,">=15")+COUNTIF(B63:P63,"BT")*10 -> 0 | R63: =COUNTIF(B63:P63,"P")*1.5 -> 0 | V63: 57
A64: 58 | Q64: =COUNTIF(B64:P64,"K")*3+COUNTIF(B64:P64,">=15")+COUNTIF(B64:P64,"BT")*10 -> 0 | R64: =COUNTIF(B64:P64,"P")*1.5 -> 0 | V64: 58
A65: 59 | Q65: =COUNTIF(B65:P65,"K")*3+COUNTIF(B65:P65,">=15")+COUNTIF(B65:P65,"BT")*10 -> 0 | R65: =COUNTIF(B65:P65,"P")*1.5 -> 0 | V65: 59
A66: 60

Sheet Diem Danh
A1: ĐIỂM DANH LỚP 15CĐ-CTM4
E2: 2 | H2: 3 | N2: 4 | R2: 5
A3: TT | B3: MSSV | C3: Họ tên sinh viên | E3: 14 | F3: 21 | G3: 28 | H3: 07 | I3: 14 | J3: 21 | K3: 24 | L3: 28 | M3: 31 | N3: 04 | O3: 11 | P3: 18 | Q3: 31 | T3: v(k) | U3: v (p) | V3: Tr 15' | W3: BT | X3: TC | Y3: 4 | Z3: 8 | AA3: 6 | AC3: Cấm Thi | AE3: K | AF3: KG PHÉP
A4: 1 | B4: 18005810 | C4: Võ Văn | D4: Định | E4: =T.Nghi!B7 -> 0 | F4: =T.Nghi!C7 -> 0 | G4: =T.Nghi!D7 -> 0 | H4: =T.Nghi!E7 -> 0 | I4: =T.Nghi!F7 -> 0 | J4: =T.Nghi!G7 -> 0 | K4: =T.Nghi!H7 -> 0 | L4: =T.Nghi!I7 -> 0 | ... R4: =T.Nghi!O7 -> 0 | T4: =COUNTIF(E4:S4,"=k") -> 0 | U4: =COUNTIF(E4:S4,"=p") -> 0 | V4: =COUNTIF(E4:S4,">5")+COUNTIF(E4:S4,">10")+COUNTIF(E4:S4,">15") -> 0 | W4: =COUNTIF(E4:S4,"=BT") -> 0 | X4: =T4*4+U4*2+V4+W4*20 -> 0 | Y4: =COUNTIF(E4:F4,"=k")*2 -> 0 | Z4: =COUNTIF(G4:J4,"=k")*2 -> 0 | AA4: =COUNTIF(K4:M4,"=k")*2 -> 0 | AB4: =ROUND(X4*100/60,1) -> 0 | AC4: =IF(X4>18,$AC$3,0) -> 0 | AE4: P | AF4: CÓ PHÉP
A5: 2 | B5: 18005545 | C5: Huỳnh Nguyễn Hoàng | D5: Hưng | E5: =T.Nghi!B8 -> 0 | F5: =T.Nghi!C8 -> 0 | G5: =T.Nghi!D8 -> 0 | H5: =T.Nghi!E8 -> 0 | I5: =T.Nghi!F8 -> 0 | J5: =T.Nghi!G8 -> 0 | K5: =T.Nghi!H8 -> k | L5: =T.Nghi!I8 -> 0 | ... R5: =T.Nghi!O8 -> 0 | T5: =COUNTIF(E5:S5,"=k") -> 1 | U5: =COUNTIF(E5:S5,"=p") -> 0 | V5: =COUNTIF(E5:S5,">5")+COUNTIF(E5:S5,">10")+COUNTIF(E5:S5,">15") -> 0 | W5: =COUNTIF(E5:S5,"=BT") -> 0 | X5: =T5*4+U5*2+V5+W5*20 -> 4 | Y5: =COUNTIF(E5:F5,"=k")*2 -> 0 | Z5: =COUNTIF(G5:J5,"=k")*2 -> 0 | AA5: =COUNTIF(K5:M5,"=k")*2 -> 2 | AB5: =ROUND(X5*100/60,1) -> 6.7 | AC5: =IF(X5>18,$AC$3,0) -> 0 | AE5: BT | AF5: BỎ TIẾT
A6: 3 | B6: 18005799 | C6: Nguyễn Quang | D6: Huy | E6: =T.Nghi!B9 -> 0 | F6: =T.Nghi!C9 -> 0 | G6: =T.Nghi!D9 -> 0 | H6: =T.Nghi!E9 -> 0 | I6: =T.Nghi!F9 -> 0 | J6: =T.Nghi!G9 -> k | K6: =T.Nghi!H9 -> 0 | L6: =T.Nghi!I9 -> 0 | ... R6: =T.Nghi!O9 -> 0 | T6: =COUNTIF(E6:S6,"=k") -> 1 | U6: =COUNTIF(E6:S6,"=p") -> 0 | V6: =COUNTIF(E6:S6,">5")+COUNTIF(E6:S6,">10")+COUNTIF(E6:S6,">15") -> 0 | W6: =COUNTIF(E6:S6,"=BT") -> 0 | X6: =T6*4+U6*2+V6+W6*20 -> 4 | Y6: =COUNTIF(E6:F6,"=k")*2 -> 0 | Z6: =COUNTIF(G6:J6,"=k")*2 -> 2 | AA6: =COUNTIF(K6:M6,"=k")*2 -> 0 | AB6: =ROUND(X6*100/60,1) -> 6.7 | AC6: =IF(X6>18,$AC$3,0) -> 0
A7: 4 | B7: 18005669 | C7: Nguyễn Công | D7: Khoa | E7: =T.Nghi!B10 -> 0 | F7: =T.Nghi!C10 -> 0 | G7: =T.Nghi!D10 -> 0 | H7: =T.Nghi!E10 -> 0 | I7: =T.Nghi!F10 -> 0 | J7: =T.Nghi!G10 -> 0 | K7: =T.Nghi!H10 -> 0 | L7: =T.Nghi!I10 -> k | ... R7: =T.Nghi!O10 -> 0 | T7: =COUNTIF(E7:S7,"=k") -> 1 | U7: =COUNTIF(E7:S7,"=p") -> 0 | V7: =COUNTIF(E7:S7,">5")+COUNTIF(E7:S7,">10")+COUNTIF(E7:S7,">15") -> 0 | W7: =COUNTIF(E7:S7,"=BT") -> 0 | X7: =T7*4+U7*2+V7+W7*20 -> 4 | Y7: =COUNTIF(E7:F7,"=k")*2 -> 0 | Z7: =COUNTIF(G7:J7,"=k")*2 -> 0 | AA7: =COUNTIF(K7:M7,"=k")*2 -> 2 | AB7: =ROUND(X7*100/60,1) -> 6.7 | AC7: =IF(X7>18,$AC$3,0) -> 0 | AD7: bt
A8: 5 | B8: 18005728 | C8: Vương Nhân | D8: Kiên | E8: =T.Nghi!B11 -> 0 | F8: =T.Nghi!C11 -> 0 | G8: =T.Nghi!D11 -> 0 | H8: =T.Nghi!E11 -> 0 | I8: =T.Nghi!F11 -> 0 | J8: =T.Nghi!G11 -> 0 | K8: =T.Nghi!H11 -> 0 | L8: =T.Nghi!I11 -> 0 | ... R8: =T.Nghi!O11 -> 0 | T8: =COUNTIF(E8:S8,"=k") -> 0 | U8: =COUNTIF(E8:S8,"=p") -> 0 | V8: =COUNTIF(E8:S8,">5")+COUNTIF(E8:S8,">10")+COUNTIF(E8:S8,">15") -> 0 | W8: =COUNTIF(E8:S8,"=BT") -> 0 | X8: =T8*4+U8*2+V8+W8*20 -> 0 | Y8: =COUNTIF(E8:F8,"=k")*2 -> 0 | Z8: =COUNTIF(G8:J8,"=k")*2 -> 0 | AA8: =COUNTIF(K8:M8,"=k")*2 -> 0 | AB8: =ROUND(X8*100/60,1) -> 0 | AC8: =IF(X8>18,$AC$3,0) -> 0
A9: 6 | B9: 18005809 | C9: Hồ Tấn | D9: Lộc | E9: =T.Nghi!B12 -> 0 | F9: =T.Nghi!C12 -> k | G9: =T.Nghi!D12 -> 0 | H9: =T.Nghi!E12 -> 0 | I9: =T.Nghi!F12 -> 0 | J9: =T.Nghi!G12 -> 0 | K9: =T.Nghi!H12 -> 0 | L9: =T.Nghi!I12 -> 0 | ... R9: =T.Nghi!O12 -> 0 | T9: =COUNTIF(E9:S9,"=k") -> 1 | U9: =COUNTIF(E9:S9,"=p") -> 0 | V9: =COUNTIF(E9:S9,">5")+COUNTIF(E9:S9,">10")+COUNTIF(E9:S9,">15") -> 0 | W9: =COUNTIF(E9:S9,"=BT") -> 0 | X9: =T9*4+U9*2+V9+W9*20 -> 4 | Y9: =COUNTIF(E9:F9,"=k")*2 -> 2 | Z9: =COUNTIF(G9:J9,"=k")*2 -> 0 | AA9: =COUNTIF(K9:M9,"=k")*2 -> 0 | AB9: =ROUND(X9*100/60,1) -> 6.7 | AC9: =IF(X9>18,$AC$3,0) -> 0
A10: 7 | B10: 18005800 | C10: Võ Kim | D10: Long | E10: =T.Nghi!B13 -> 0 | F10: =T.Nghi!C13 -> 0 | G10: =T.Nghi!D13 -> 0 | H10: =T.Nghi!E13 -> 0 | I10: =T.Nghi!F13 -> 0 | J10: =T.Nghi!G13 -> k | K10: =T.Nghi!H13 -> 0 | L10: =T.Nghi!I13 -> k | ... R10: =T.Nghi!O13 -> 0 | T10: =COUNTIF(E10:S10,"=k") -> 2 | U10: =COUNTIF(E10:S10,"=p") -> 0 | V10: =COUNTIF(E10:S10,">5")+COUNTIF(E10:S10,">10")+COUNTIF(E10:S10,">15") -> 0 | W10: =COUNTIF(E10:S10,"=BT") -> 0 | X10: =T10*4+U10*2+V10+W10*20 -> 8 | Y10: =COUNTIF(E10:F10,"=k")*2 -> 0 | Z10: =COUNTIF(G10:J10,"=k")*2 -> 2 | AA10: =COUNTIF(K10:M10,"=k")*2 -> 2 | AB10: =ROUND(X10*100/60,1) -> 13.3 | AC10: =IF(X10>18,$AC$3,0) -> 0
A11: 8 | B11: 18005808 | C11: Trần Quốc | D11: Mạnh | E11: =T.Nghi!B14 -> 0 | F11: =T.Nghi!C14 -> k | G11: =T.Nghi!D14 -> 0 | H11: =T.Nghi!E14 -> 0 | I11: =T.Nghi!F14 -> 0 | J11: =T.Nghi!G14 -> 0 | K11: =T.Nghi!H14 -> 0 | L11: =T.Nghi!I14 -> 0 | ... R11: =T.Nghi!O14 -> 0 | T11: =COUNTIF(E11:S11,"=k") -> 1 | U11: =COUNTIF(E11:S11,"=p") -> 0 | V11: =COUNTIF(E11:S11,">5")+COUNTIF(E11:S11,">10")+COUNTIF(E11:S11,">15") -> 0 | W11: =COUNTIF(E11:S11,"=BT") -> 0 | X11: =T11*4+U11*2+V11+W11*20 -> 4 | Y11: =COUNTIF(E11:F11,"=k")*2 -> 2 | Z11: =COUNTIF(G11:J11,"=k")*2 -> 0 | AA11: =COUNTIF(K11:M11,"=k")*2 -> 0 | AB11: =ROUND(X11*100/60,1) -> 6.7 | AC11: =IF(X11>18,$AC$3,0) -> 0 | AD11: bt
A12: 9 | B12: 18005564 | C12: Hà Triệu Ái | D12: Nhân | E12: =T.Nghi!B15 -> 0 | F12: =T.Nghi!C15 -> 0 | G12: =T.Nghi!D15 -> 0 | H12: =T.Nghi!E15 -> 0 | I12: =T.Nghi!F15 -> 0 | J12: =T.Nghi!G15 -> 0 | K12: =T.Nghi!H15 -> 0 | L12: =T.Nghi!I15 -> k | ... R12: =T.Nghi!O15 -> 0 | T12: =COUNTIF(E12:S12,"=k") -> 1 | U12: =COUNTIF(E12:S12,"=p") -> 0 | V12: =COUNTIF(E12:S12,">5")+COUNTIF(E12:S12,">10")+COUNTIF(E12:S12,">15") -> 0 | W12: =COUNTIF(E12:S12,"=BT") -> 0 | X12: =T12*4+U12*2+V12+W12*20 -> 4 | Y12: =COUNTIF(E12:F12,"=k")*2 -> 0 | Z12: =COUNTIF(G12:J12,"=k")*2 -> 0 | AA12: =COUNTIF(K12:M12,"=k")*2 -> 2 | AB12: =ROUND(X12*100/60,1) -> 6.7 | AC12: =IF(X12>18,$AC$3,0) -> 0 | AD12: k
A13: 10 | B13: 18005794 | C13: Lê Minh | D13: Nhật | E13: =T.Nghi!B16 -> 0 | F13: =T.Nghi!C16 -> k | G13: =T.Nghi!D16 -> 0 | H13: =T.Nghi!E16 -> 0 | I13: =T.Nghi!F16 -> 0 | J13: =T.Nghi!G16 -> 0 | K13: =T.Nghi!H16 -> k | L13: =T.Nghi!I16 -> 0 | ... R13: =T.Nghi!O16 -> 0 | T13: =COUNTIF(E13:S13,"=k") -> 2 | U13: =COUNTIF(E13:S13,"=p") -> 0 | V13: =COUNTIF(E13:S13,">5")+COUNTIF(E13:S13,">10")+COUNTIF(E13:S13,">15") -> 0 | W13: =COUNTIF(E13:S13,"=BT") -> 0 | X13: =T13*4+U13*2+V13+W13*20 -> 8 | Y13: =COUNTIF(E13:F13,"=k")*2 -> 2 | Z13: =COUNTIF(G13:J13,"=k")*2 -> 0 | AA13: =COUNTIF(K13:M13,"=k")*2 -> 2 | AB13: =ROUND(X13*100/60,1) -> 13.3 | AC13: =IF(X13>18,$AC$3,0) -> 0
A14: 11 | B14: 18005758 | C14: Nguyễn Hoài | D14: Phong | E14: =T.Nghi!B17 -> 0 | F14: =T.Nghi!C17 -> k | G14: =T.Nghi!D17 -> 0 | H14: =T.Nghi!E17 -> 0 | I14: =T.Nghi!F17 -> 0 | J14: =T.Nghi!G17 -> k | K14: =T.Nghi!H17 -> k | L14: =T.Nghi!I17 -> k | ... R14: =T.Nghi!O17 -> 0 | T14: =COUNTIF(E14:S14,"=k") -> 4 | U14: =COUNTIF(E14:S14,"=p") -> 0 | V14: =COUNTIF(E14:S14,">5")+COUNTIF(E14:S14,">10")+COUNTIF(E14:S14,">15") -> 0 | W14: =COUNTIF(E14:S14,"=BT") -> 0 | X14: =T14*4+U14*2+V14+W14*20 -> 16 | Y14: =COUNTIF(E14:F14,"=k")*2 -> 2 | Z14: =COUNTIF(G14:J14,"=k")*2 -> 2 | AA14: =COUNTIF(K14:M14,"=k")*2 -> 4 | AB14: =ROUND(X14*100/60,1) -> 26.7 | AC14: =IF(X14>18,$AC$3,0) -> 0
A15: 12 | B15: 18005806 | C15: Lê Thành | D15: Phú | E15: =T.Nghi!B18 -> 0 | F15: =T.Nghi!C18 -> 0 | G15: =T.Nghi!D18 -> 0 | H15: =T.Nghi!E18 -> 0 | I15: =T.Nghi!F18 -> 0 | J15: =T.Nghi!G18 -> 0 | K15: =T.Nghi!H18 -> 0 | L15: =T.Nghi!I18 -> 0 | ... R15: =T.Nghi!O18 -> 0 | T15: =COUNTIF(E15:S15,"=k") -> 0 | U15: =COUNTIF(E15:S15,"=p") -> 0 | V15: =COUNTIF(E15:S15,">5")+COUNTIF(E15:S15,">10")+COUNTIF(E15:S15,">15") -> 0 | W15: =COUNTIF(E15:S15,"=BT") -> 0 | X15: =T15*4+U15*2+V15+W15*20 -> 0 | Y15: =COUNTIF(E15:F15,"=k")*2 -> 0 | Z15: =COUNTIF(G15:J15,"=k")*2 -> 0 | AA15: =COUNTIF(K15:M15,"=k")*2 -> 0 | AB15: =ROUND(X15*100/60,1) -> 0 | AC15: =IF(X15>18,$AC$3,0) -> 0 | AD15: bt
A16: 13 | B16: 18005803 | C16: Phan Xuân | D16: Phú | E16: =T.Nghi!B19 -> 0 | F16: =T.Nghi!C19 -> 0 | G16: =T.Nghi!D19 -> 0 | H16: =T.Nghi!E19 -> 0 | I16: =T.Nghi!F19 -> 0 | J16: =T.Nghi!G19 -> 0 | K16: =T.Nghi!H19 -> 0 | L16: =T.Nghi!I19 -> 0 | ... R16: =T.Nghi!O19 -> 0 | T16: =COUNTIF(E16:S16,"=k") -> 0 | U16: =COUNTIF(E16:S16,"=p") -> 0 | V16: =COUNTIF(E16:S16,">5")+COUNTIF(E16:S16,">10")+COUNTIF(E16:S16,">15") -> 0 | W16: =COUNTIF(E16:S16,"=BT") -> 0 | X16: =T16*4+U16*2+V16+W16*20 -> 0 | Y16: =COUNTIF(E16:F16,"=k")*2 -> 0 | Z16: =COUNTIF(G16:J16,"=k")*2 -> 0 | AA16: =COUNTIF(K16:M16,"=k")*2 -> 0 | AB16: =ROUND(X16*100/60,1) -> 0 | AC16: =IF(X16>18,$AC$3,0) -> 0 | AD16: bt
A17: 14 | B17: 18005797 | C17: Nguyễn Nhật | D17: Quang | E17: =T.Nghi!B20 -> 0 | F17: =T.Nghi!C20 -> k | G17: =T.Nghi!D20 -> 0 | H17: =T.Nghi!E20 -> 0 | I17: =T.Nghi!F20 -> 0 | J17: =T.Nghi!G20 -> k | K17: =T.Nghi!H20 -> k | L17: =T.Nghi!I20 -> k | ... R17: =T.Nghi!O20 -> 0 | T17: =COUNTIF(E17:S17,"=k") -> 4 | U17: =COUNTIF(E17:S17,"=p") -> 0 | V17: =COUNTIF(E17:S17,">5")+COUNTIF(E17:S17,">10")+COUNTIF(E17:S17,">15") -> 0 | W17: =COUNTIF(E17:S17,"=BT") -> 0 | X17: =T17*4+U17*2+V17+W17*20 -> 16 | Y17: =COUNTIF(E17:F17,"=k")*2 -> 2 | Z17: =COUNTIF(G17:J17,"=k")*2 -> 2 | AA17: =COUNTIF(K17:M17,"=k")*2 -> 4 | AB17: =ROUND(X17*100/60,1) -> 26.7 | AC17: =IF(X17>18,$AC$3,0) -> 0
A18: 15 | B18: 18005750 | C18: Mạch Quốc | D18: Thắng | E18: =T.Nghi!B21 -> 0 | F18: =T.Nghi!C21 -> 0 | G18: =T.Nghi!D21 -> 0 | H18: =T.Nghi!E21 -> 0 | I18: =T.Nghi!F21 -> 0 | J18: =T.Nghi!G21 -> 0 | K18: =T.Nghi!H21 -> 0 | L18: =T.Nghi!I21 -> 0 | ... R18: =T.Nghi!O21 -> 0 | T18: =COUNTIF(E18:S18,"=k") -> 0 | U18: =COUNTIF(E18:S18,"=p") -> 0 | V18: =COUNTIF(E18:S18,">5")+COUNTIF(E18:S18,">10")+COUNTIF(E18:S18,">15") -> 0 | W18: =COUNTIF(E18:S18,"=BT") -> 0 | X18: =T18*4+U18*2+V18+W18*20 -> 0 | Y18: =COUNTIF(E18:F18,"=k")*2 -> 0 | Z18: =COUNTIF(G18:J18,"=k")*2 -> 0 | AA18: =COUNTIF(K18:M18,"=k")*2 -> 0 | AB18: =ROUND(X18*100/60,1) -> 0 | AC18: =IF(X18>18,$AC$3,0) -> 0
A19: 16 | B19: 18005743 | C19: Nguyễn Văn | D19: Tình | E19: =T.Nghi!B22 -> 0 | F19: =T.Nghi!C22 -> 0 | G19: =T.Nghi!D22 -> 0 | H19: =T.Nghi!E22 -> 0 | I19: =T.Nghi!F22 -> 0 | J19: =T.Nghi!G22 -> 0 | K19: =T.Nghi!H22 -> k | L19: =T.Nghi!I22 -> 0 | ... R19: =T.Nghi!O22 -> 0 | T19: =COUNTIF(E19:S19,"=k") -> 1 | U19: =COUNTIF(E19:S19,"=p") -> 0 | V19: =COUNTIF(E19:S19,">5")+COUNTIF(E19:S19,">10")+COUNTIF(E19:S19,">15") -> 0 | W19: =COUNTIF(E19:S19,"=BT") -> 0 | X19: =T19*4+U19*2+V19+W19*20 -> 4 | Y19: =COUNTIF(E19:F19,"=k")*2 -> 0 | Z19: =COUNTIF(G19:J19,"=k")*2 -> 0 | AA19: =COUNTIF(K19:M19,"=k")*2 -> 2 | AB19: =ROUND(X19*100/60,1) -> 6.7 | AC19: =IF(X19>18,$AC$3,0) -> 0 | AD19: bt
A20: 17
A21: 18
A22: 19 | AD22: bt
A23: 20
A24: 21 | AD24: k
A25: 22
A26: 23
A27: 24
A28: 25 | AD28: bt
A29: 26
A30: 27 | AD30: bt
A31: 28
A32: 29
A33: 30
A34: 31
A35: 32
A36: 33
A37: 34
A38: 35
A39: 36
A40: 37
A41: 38
A42: 39
... A44: 41
E45: =COUNTIF(E4:E44,"=k")+COUNTIF(E4:E44,"=p") -> 0 | F45: =COUNTIF(F4:F44,"=k")+COUNTIF(F4:F44,"=p") -> 5 | G45: =COUNTIF(G4:G44,"=k")+COUNTIF(G4:G44,"=p") -> 0 | H45: =COUNTIF(H4:H44,"=k")+COUNTIF(H4:H44,"=p") -> 0 | I45: =COUNTIF(I4:I44,"=k")+COUNTIF(I4:I44,"=p") -> 0 | J45: =COUNTIF(J4:J44,"=k")+COUNTIF(J4:J44,"=p") -> 4 | K45: =COUNTIF(K4:K44,"=k")+COUNTIF(K4:K44,"=p") -> 5 | L45: =COUNTIF(L4:L44,"=k")+COUNTIF(L4:L44,"=p") -> 5 | ... S45: =COUNTIF(S4:S44,"=k")+COUNTIF(S4:S44,"=p") -> 0
C47: 1 buổi trừ 4 tiết
C48: 1 tiết trừ 20 tiết
C49: 1 buổi phép trừ 2 tiết

Sheet Thao Luan
A1: THẢO LUẬN LỚP 10CĐ-CK3
E2: 9 | F2: 10 | H2: 11 | K2: 12
A3: TT | B3: MSSV | C3: Họ tên sinh viên | E3: N1 28 | F3: N2 12 | G3: N3 19 | H3: N4 9 | I3: N5 16 | J3: N6 23 | K3: N7 07 | L3: N8 14 | N3: TC
A4: 1 | B4: 15002712 | C4: Trần Kim | D4: Anh | N4: =SUM(E4:L4) -> 0
A5: 2 | B5: 15002729 | C5: Cao Quốc | D5: Cường | N5: =SUM(E5:L5) -> 0
A6: 3 | B6: 15002546 | C6: Huỳnh Thanh | D6: Cường | N6: =SUM(E6:L6) -> 0
A7: 4 | B7: 15002604 | C7: Phạm Quốc | D7: Cường | N7: =SUM(E7:L7) -> 0
A8: 5 | B8: 15002735 | C8: Phạm Văn | D8: Chi | N8: =SUM(E8:L8) -> 0
A9: 6 | B9: 15002573 | C9: Nguyễn Ngọc | D9: Duy | N9: =SUM(E9:L9) -> 0
A10: 7 | B10: 15002553 | C10: Trần Châu | D10: Đạt | N10: =SUM(E10:L10) -> 0
A11: 8 | B11: 15002595 | C11: Nguyễn Thành | D11: Đạt | N11: =SUM(E11:L11) -> 0
A12: 9 | B12: 15002694 | C12: Lưu Quốc | D12: Đạt | N12: =SUM(E12:L12) -> 0
A13: 10 | B13: 15002711 | C13: Lê Phước | D13: Đông | N13: =SUM(E13:L13) -> 0
A14: 11 | B14: 15002655 | C14: Phan Đình | D14: Đức | N14: =SUM(E14:L14) -> 0
A15: 12 | B15: 15002478 | C15: Nguyễn Thanh | D15: Giang | N15: =SUM(E15:L15) -> 0
... A33: 30 | B33: 15002583 | C33: Cấn Trọng | D33: Nghĩa | N33: =SUM(E33:L33) -> 0
A34: 31 | B34: 15002467 | C34: Trần Chí | D34: Nguyên
A35: 32 | B35: 15002558 | C35: Trần Minh | D35: Nhựt
A36: 33 | B36: 15002634 | C36: Châu Nhật | D36: Phát
A37: 34 | B37: 15002651 | C37: Trần Diệu | D37: Phúc
A38: 35 | B38: 15002635 | C38: Thân Ngọc | D38: Phước
A39: 36 | B39: 15002724 | C39: Nguyễn Công | D39: Quang
A40: 37 | B40: 15002547 | C40: Dương Nghĩa | D40: Quấn
A41: 38 | B41: 15002453 | C41: Hồ Thúc | D41: Quý
A42: 39 | B42: 15002679 | C42: Nguyễn Thanh | D42: Sang
A43: 40 | B43: 15002706 | C43: Phạm Chí | D43: Tâm
A44: 41 | B44: 15002457 | C44: Đào Duy | D44: Tân
A45: 42 | B45: 15002606 | C45: Võ Khánh | D45: Tiên | N45: =SUM(E45:L45) -> 0
A46: 43 | B46: 15002650 | C46: Đoàn Thanh | D46: Tuấn | N46: =SUM(E46:L46) -> 0
A47: 44 | B47: 15002531 | C47: Nguyễn Trung | D47: Tuấn | N47: =SUM(E47:L47) -> 0
A48: 45 | B48: 15002767 | C48: Phạm Thanh | D48: Tùng | N48: =SUM(E48:L48) -> 0
A49: 46 | B49: 15002565 | C49: Vũ Mạnh | D49: Tường | N49: =SUM(E49:L49) -> 0
A50: 47 | B50: 15002474 | C50: Trần Quang | D50: Thành | N50: =SUM(E50:L50) -> 0
A51: 48 | B51: 15002764 | C51: Đặng Minh | D51: Thắng | N51: =SUM(E51:L51) -> 0
A52: 49 | B52: 15002665 | C52: Nguyễn Sỹ | D52: Thắng | N52: =SUM(E52:L52) -> 0
A53: 50 | B53: 15002697 | C53: Hà Đức | D53: Thịnh | N53: =SUM(E53:L53) -> 0
A54: 51 | B54: 15002519 | C54: Nguyễn Minh | D54: Thuận | N54: =SUM(E54:L54) -> 0
A55: 52 | B55: 15002578 | C55: Nguyễn Trí | D55: Thức | N55: =SUM(E55:L55) -> 0
A56: 53 | B56: 15002658 | C56: Nguyễn Thanh | D56: Trúc | N56: =SUM(E56:L56) -> 0
... A58: 55 | B58: 15002592 | C58: Vũ Mã Hoàng | D58: Uy | N58: =SUM(E58:L58) -> 0
A59: 56 | B59: 15002564 | C59: Nguyễn Hữu | D59: Vinh
A60: 57 | B60: 15002591 | C60: Trần Tuấn | D60: Vũ
A61: 58 | B61: 15002484 | C61: Ngô Công | D61: Vũ
A62: 59 | B62: 15002601 | C62: Phan Văn | D62: Vũ | N62: =SUM(E62:L62) -> 0
E63: =SUM(E4:E58) -> 0 | F63: =SUM(F4:F58) -> 0 | G63: =SUM(G4:G58) -> 0 | H63: =SUM(H4:H58) -> 0 | I63: =SUM(I4:I58) -> 0 | J63: =SUM(J4:J58) -> 0 | K63: =SUM(K4:K58) -> 0 | L63: =SUM(L4:L58) -> 0 | M63: =SUM(M4:M58) -> 0

Sheet DS Nhom
D1: Điểm BC | E1: TL CN | F1: TL Nhom | G1: 18/2 | H1: 3/3 | I1: 17/3 | J1: 31/3 | K1: 14/4 | L1: 21/4 | M1: 28/4 | N1: 12/5 | O1: TC
A2: Nhóm 1 | D2: 0 | F2: =SUM(E3:E10) -> 0
A3: Mai Xuân | B3: Hiệp | C3: NT | D3: =D$2 -> 0 | E3: ='Thao Luan'!N9 -> 0 | F3: =F$2 -> 0 | O3: =SUM(G3:N3) -> 0
A4: Lê Hữu | B4: Chinh | D4: =D$2 -> 0 | E4: ='Thao Luan'!N6 -> 0 | F4: =F$2 -> 0
A5: Nguyễn Việt | B5: Cường | D5: =D$2 -> 0 | E5: ='Thao Luan'!N21 -> 0 | F5: =F$2 -> 0
A6: Phạm Hoàng | B6: Dũng
A7: Phạm Vũ | B7: Duy
A8: Lê Phúc | B8: Hải | D8: =D$2 -> 0 | E8: ='Thao Luan'!N33 -> 0 | F8: =F$2 -> 0
A9: Nguyễn Văn | B9: Hiếu | D9: =D$2 -> 0 | E9: ='Thao Luan'!N55 -> 0 | F9: =F$2 -> 0
A10: Trương Văn | B10: Hùng | D10: =D$2 -> 0 | E10: ='Thao Luan'!N57 -> 0 | F10: =F$2 -> 0
A12: Nhóm 2 | F12: =SUM(E13:E20) -> 0 | Q12: Phạm Văn | R12: Dự
A13: Nguyễn Tấn | B13: Kỵ | C13: NT | D13: =D$12 -> 0 | E13: ='Thao Luan'!N11 -> 0 | F13: =F$12 -> 0 | O13: =SUM(G13:N13) -> 0
A14: Vũ Minh | B14: Đăng | D14: =D$12 -> 0 | E14: ='Thao Luan'!N10 -> 0 | F14: =F$12 -> 0
A15: Nguyễn Văn | B15: Phong | D15: =D$12 -> 0 | E15: ='Thao Luan'!N14 -> 0 | F15: =F$12 -> 0
A16: Đỗ Thành | B16: Phước
A17: Hoàng Nhật | B17: Tân
A18: Dương Hải | B18: Thắng | D18: =D$12 -> 0 | E18: ='Thao Luan'!N19 -> 0 | F18: =F$12 -> 0
A19: Nguyễn Tấn | B19: Thành | D19: =D$12 -> 0 | E19: ='Thao Luan'!N29 -> 0 | F19: =F$12 -> 0
D20: =D$12 -> 0 | E20: ='Thao Luan'!N52 -> 0 | F20: =F$12 -> 0
A22: Nhóm 3 | F22: =SUM(E23:E30) -> 0
A23: Nguyễn Phùng | B23: Thịnh | C23: NT | D23: =D$22 -> 0 | E23: ='Thao Luan'!N8 -> 0 | F23: =F$22 -> 0 | O23: =SUM(G23:N23) -> 0
A24: Nguyễn Thanh | B24: Hùng | D24: =D$22 -> 0 | E24: ='Thao Luan'!N12 -> 0 | F24: =F$22 -> 0
A25: Trần Minh | B25: Khôi
A26: Võ Thanh | B26: Nhàn
A27: Nguyễn Hoàng | B27: Phúc | D27: =D$22 -> 0 | E27: ='Thao Luan'!N15 -> 0 | F27: =F$22 -> 0
A28: Đỗ Thượng | B28: Trí | D28: =D$22 -> 0 | E28: ='Thao Luan'!N25 -> 0 | F28: =F$22 -> 0
A29: Đặng Quốc | B29: Trung | D29: =D$22 -> 0 | E29: ='Thao Luan'!N51 -> 0 | F29: =F$22 -> 0
A30: Võ Trần Nhật | B30: Tú | D30: =D$22 -> 0 | E30: ='Thao Luan'!N56 -> 0 | F30: =F$22 -> 0
A32: Nhóm 4 | F32: =SUM(E33:E39) -> 0
A33: Bùi Văn | B33: Ty | C33: NT | D33: =D$32 -> 0 | E33: ='Thao Luan'!N7 -> 0 | F33: =F$32 -> 0 | O33: =SUM(G33:N33) -> 0
A34: Trương Văn | B34: Ẩn | D34: =D$32 -> 0 | E34: ='Thao Luan'!N16 -> 0 | F34: =F$32 -> 0
A35: Võ Duy | B35: Hải | D35: =D$32 -> 0 | E35: ='Thao Luan'!N23 -> 0 | F35: =F$32 -> 0
A36: Nguyễn Văn | B36: Hoài
A37: Ngô Văn | B37: Năm
A38: Nguyễn | B38: Sáng | D38: =D$32 -> 0 | E38: ='Thao Luan'!N48 -> 0 | F38: =F$32 -> 0
A39: Nguyễn Xuân | B39: Tiên | D39: =D$32 -> 0 | E39: ='Thao Luan'!N49 -> 0 | F39: =F$32 -> 0
A40: Nguyễn Văn | B40: Trao | D40: =D$32 -> 0 | E40: ='Thao Luan'!N8 -> 0
A42: Nhóm 5 | F42: =SUM(E43:E50) -> 0
A43: Trần Văn Minh | B43: Thông | C43: NT | D43: =D$42 -> 0 | E43: ='Thao Luan'!N4 -> 0 | F43: =F$42 -> 0 | O43: =SUM(G43:N43) -> 0
A44: Nguyễn Trương | B44: Bửu | D44: =D$42 -> 0 | E44: ='Thao Luan'!N31 -> 0 | F44: =F$42 -> 0
A45: Mai Công | B45: Đạt
A46: Nguyễn Hòai | B46: Đức
A47: Trần Quang | B47: Khải | D47: =D$42 -> 0 | E47: ='Thao Luan'!N45 -> 0 | F47: =F$42 -> 0
A48: Nguyễn Văn | B48: Thuận | D48: =D$42 -> 0 | E48: ='Thao Luan'!N58 -> 0 | F48: =F$42 -> 0
A49: Lê Ngọc Vũ | B49: Trường | D49: =D$42 -> 0 | E49: ='Thao Luan'!N30 -> 0 | F49: =F$42 -> 0
D50: =D$42 -> 0 | E50: ='Thao Luan'!N22 -> 0 | F50: =F$42 -> 0
A52: Nhóm 6 | F52: =SUM(E53:E60) -> 0
A53: Mai Tấn | B53: Lượng | C53: NT | D53: =D$52 -> 0 | E53: ='Thao Luan'!N13 -> 0 | F53: =F$52 -> 0 | O53: =SUM(G53:N53) -> 0
A54: Nguyễn Ngọc | B54: Hào | D54: =D$52 -> 0 | E54: ='Thao Luan'!N17 -> 0 | F54: =F$52 -> 0
A55: Nguyễn Văn | B55: Hậu | D55: =D$52 -> 0 | E55: ='Thao Luan'!N17 -> 0 | F55: =F$52 -> 0
A56: Phạm Thanh | B56: Lý
A57: Nguyễn Cao | B57: Minh
A58: Tô Trọng | B58: Nhân | D58: =D$52 -> 0 | E58: ='Thao Luan'!N47 -> 0 | F58: =F$52 -> 0
A59: Phạm Văn | B59: Thủy | D59: =D$52 -> 0 | E59: ='Thao Luan'!N62 -> 0 | F59: =F$52 -> 0
D60: =D$52 -> 0 | E60: ='Thao Luan'!N57 -> 0 | F60: =F$52 -> 0
A62: Nhóm 7 | F62: =SUM(E63:E70) -> 0 | Q62: Nguyễn Trọng | R62: Tín
A63: Vòng Đình | B63: Bích | C63: NT | D63: =D$62 -> 0 | E63: ='Thao Luan'!N27 -> 0 | F63: =F$62 -> 0 | O63: =SUM(G63:N63) -> 0
A64: Trần Đình | B64: Ất | D64: =D$62 -> 0 | E64: ='Thao Luan'!N32 -> 0 | F64: =F$62 -> 0
A65: K' | B65: Bis | D65: =D$62 -> 0 | E65: ='Thao Luan'!N50 -> 0 | F65: =F$62 -> 0
A66: Trần Bảo | B66: Chinh
A67: Phạm Ngọc | B67: Dược
A68: Nguyễn Hữu | B68: Duy | D68: =D$62 -> 0 | E68: ='Thao Luan'!N53 -> 0 | F68: =F$62 -> 0
A69: Nguyễn Nhật | B69: Duy | D69: =D$62 -> 0 | E69: ='Thao Luan'!N54 -> 0 | F69: =F$62 -> 0
A70: Phạm Ngọc | B70: Duy | D70: =D$62 -> 0 | F70: =F$62 -> 0
Q71: Nguyễn Quang | R71: Vinh
A72: Nhóm 8 | F72: =SUM(E73:E81) -> 0 | Q72: Hồ Hoàng | R72: Thiện
C73: NT | D73: =D$72 -> 0 | E73: ='Thao Luan'!N28 -> 0 | F73: =F$72 -> 0 | O73: =SUM(G73:N73) -> 0
D74: =D$72 -> 0 | E74: ='Thao Luan'!N5 -> 0 | F74: =F$72 -> 0
D75: =D$72 -> 0 | E75: ='Thao Luan'!N18 -> 0 | F75: =F$72 -> 0
D79: =D$72 -> 0 | E79: ='Thao Luan'!N24 -> 0 | F79: =F$72 -> 0
D80: =D$72 -> 0 | E80: ='Thao Luan'!N46 -> 0 | F80: =F$72 -> 0
D81: =D$72 -> 0 | E81: ='Thao Luan'!N51 -> 0 | F81: =F$72 -> 0
D82: =D$72 -> 0 | E82: ='Thao Luan'!N52 -> 0
A83: Phan Vũ | B83: Linh | C83: LT | D83: =ROUND((D2+D22+D42+D62)/4,0) -> 0 | E83: ='Thao Luan'!N22 -> 0 | F83: =(F62+F42+F22+F2)/4 -> 0 | O83: =SUM(O3:O82) -> 0
A84: Lê Hoàng | B84: Nhân | C84: LP | D84: =ROUND((D12+D32+D52+D72)/4,0) -> 0 | E84: ='Thao Luan'!N26 -> 0 | F84: =(F72+F52+F32+F12)/4 -> 0
D85: Thảo luận ca nhân | F85: =ROUND(1/8,2) -> 0.13
D86: Thảo luận nhóm | F86: =ROUND(2/49,2) -> 0.04

Sheet Hoc Lai
A1: ỦY BAN NHÂN DÂN TP.HỒ CHÍ MINH | G1: CỘNG HÒA XÃ HỘI CHỦ NGHĨA VIỆT NAM
A2: TRƯỜNG CĐKT LÝ TỰ TRỌNG TP.HCM | G2: Độc lập – Tự do – Hạnh phúc
A3: ********** | G3: ************
A4: BẢNG ĐIỂM HỌC PHẦN LÝ THUYẾT (HỌC TRƯỚC - HỌC LAI)
A6: HỌC PHẦN : ĐỒ GÁ LỚP : 10 CĐ - CK3
A7: HỌC KỲ : I I NĂM HỌC : 2011 - 2012
A9: TT | B9: MSSV | C9: Họ tên sinh viên | E9: Điểm đánh giá bộ phận | J9: Điểm TB | K9: Điểm thi kết thúc HP | M9: Điểm học phần
E10: KT thường xuyên | F10: N.thức, thái độ thảo luận | G10: Chuyên cần | H10: TH/TN | I10: Thi giữa HP,Tiểu luận
H11: (nếu có) | K11: L1 | L11: L2 | M11: L1 | N11: L2
C12: Phan Ngọc | D12: Đại | E12: 6 | F12: 5 | G12: 6 | I12: 8 | J12: =(ROUND((E12+F12+G12+I12*2)/5,1)) -> 6.6 | K12: 7 | M12: =(ROUND((I12+J12)/2,0)) -> 7
C13: Tăng Kông | D13: Long | E13: 8 | F13: 6 | G13: 8 | I13: 8 | J13: =(ROUND((E13+F13+G13+I13*2)/5,1)) -> 7.6 | K13: 7 | M13: =(ROUND((I13+J13)/2,0)) -> 8
C14: Lương Hoang | D14: Long | E14: 6 | F14: 5 | G14: 4 | I14: 5 | J14: =(ROUND((E14+F14+G14+I14*2)/5,1)) -> 5 | K14: 5 | M14: =(ROUND((I14+J14)/2,0)) -> 5
C15: Báo Ngọc | D15: Trần | E15: 7 | F15: 5 | G15: 6 | I15: 6 | J15: =(ROUND((E15+F15+G15+I15*2)/5,1)) -> 6 | K15: 5 | M15: =(ROUND((I15+J15)/2,0)) -> 6
A16: Yêu cầu : Khoa niêm yết cho sinh viên, lưu Giáo vụ Khoa và nộp bản chính cho Phòng Đào tạo. | P16: Tổng hợp | S16: Sĩ số | T16: % | U16: X.sắc | W16: Giỏi | Y16: Khá | AA16: T.bình | AC16: Yếu | AE16: Kém
B17: Tổng số SV có điểm >= 5 đ : | D17: =V22 -> 0 | E17: =X22/100 -> #DIV/0! | U17: SốHS | V17: % | W17: SốHS | X17: % | Y17: SốHS | Z17: % | AA17: Số HS | AB17: % | AC17: SốHS | AD17: % | AE17: SốHS | AF17: %
B18: Tổng số SV có điểm < 5 đ : | D18: =Y22 -> 0 | E18: =Z22/100 -> #DIV/0! | S18: =COUNTIF(N12:N15,"<=10") -> 0 | T18: =ROUND((V18+X18+Z18+AB18+AD18+AF18),1) -> #DIV/0! | U18: =COUNTIF(N12:N15,">=9") -> 0 | V18: =ROUND(U18*100/S18,1) -> #DIV/0! | W18: =COUNTIF(N12:N15,">=8")-COUNTIF(N12:N15,">=9") -> 0 | X18: =ROUND(W18*100/S18,1) -> #DIV/0! | Y18: =COUNTIF(N12:N15,">=7")-COUNTIF(N12:N15,">=8") -> 0 | Z18: =ROUND(Y18*100/S18,1) -> #DIV/0! | AA18: =COUNTIF(N12:N15,">=5")-COUNTIF(N12:N15,">=7") -> 0 | AB18: =ROUND(AA18*100/S18,1) -> #DIV/0! | AC18: =COUNTIF(N12:N15,">=4")-COUNTIF(N12:N15,">=5") -> 0 | AD18: =ROUND(AC18*100/S18,1) -> #DIV/0! | AE18: =COUNTIF(N12:N15,"<4") -> 0 | AF18: =ROUND(AE18*100/S18,1) -> #DIV/0!
I19: Ngày 19 tháng 5 năm 2012 | AB19: =IF(T18=100,AB18+0,IF(T18<100,AB18+0.1,IF(T18>100,AB18-0.1))) -> #DIV/0!
A20: TRƯỞNG KHOA | D20: TRƯỞNG BỘ MÔN | I20: GIÁO VIÊN GIẢNG DẠY | P20: Tổng hợp đạt/không đạt | T20: Sĩ số | U20: % | V20: Đạt yêu cầu | Y20: Yếu+Kém
A21: (Ký và ghi rõ họ tên) | D21: (Ký và ghi rõ họ tên) | I21: (Ký và ghi rõ họ tên) | V21: SốHS | X21: % | Y21: SốHS | Z21: %
P22: HK II 10CĐ-CK4 Do Ga | T22: =COUNTIF(N12:N15,"<=20") -> 0 | U22: =X22+Z22 -> #DIV/0! | V22: =COUNTIF(N12:N15,">=5") -> 0 | X22: =ROUND(V22*100/T22,1) -> #DIV/0! | Y22: =COUNTIF(N12:N15,"<5") -> 0 | Z22: =ROUND(Y22*100/T22,1) -> #DIV/0!

Sheet Cam Thi
A1: UBND THÀNH PHỐ HỒ CHÍ MINH | E1: CỘNG HÒA XÃ HỘI CHỦ NGHĨA VIỆT NAM
A2: TRƯỜNG CAO ĐẲNG KỸ THUẬT LÝ TỰ TRỌNG TP. HỒ CHÍ MINH | E2: Độc lập - Tự do - Hạnh phúc
A4: DANH SÁCH CẤM THI KẾT THÚC HỌC PHẦN Bậc đào tạo: CAO ĐẲNG
C5: HỌC PHẦN : | D5: ĐỒ GÁ
C6: HỌC KỲ : | D6: I | G6: NĂM HỌC : | H6: 2015 - 2016
A8: TT | B8: HỌ VÀ TÊN SINH VIÊN | D8: LỚP | E8: LÝ DO CẤM THI | I8: GHI CHÚ
E9: Số tiết vắng/ tổng số tiết quy định của Học kỳ | H9: %
A10: 1 | B10: K' | C10: Bis | E10: 10 | F10: / | G10: 30 | H10: =E10*100/G10 -> 33.333333
A11: 2 | B11: Phạm Văn | C11: Dự | E11: 30 | F11: / | G11: 30 | H11: =E11*100/G11 -> 100
A12: 3 | B12: Nguyễn Hữu | C12: Duy | E12: 10 | F12: / | G12: 30 | H12: =E12*100/G12 -> 33.333333
A13: 4 | B13: Nguyễn Nhật | C13: Duy | E13: 10 | F13: / | G13: 30 | H13: =E13*100/G13 -> 33.333333
A14: 5 | B14: Nguyễn Ngọc | C14: Hào | E14: 14 | G14: 30 | H14: =E14*100/G14 -> 46.666667
A15: 6 | B15: Nguyễn Trọng | C15: Tín | E15: 10 | F15: / | G15: 30 | H15: =E15*100/G15 -> 33.333333
A16: 7 | F16: / | G16: 30 | H16: =E16*100/G16 -> 0
A17: 8 | F17: / | G17: 30 | H17: =E17*100/G17 -> 0
A18: 9 | F18: / | G18: 30 | H18: =E18*100/G18 -> 0
A19: 10 | F19: / | G19: 30 | H19: =E19*100/G19 -> 0
A20: 11 | F20: / | G20: 30 | H20: =E20*100/G20 -> 0
B22: Tổng cộng danh sách có: | C22: =COUNTIF(E10:E20,"<=30") -> 6
G24: Tp. HCM, ngày tháng năm 201___
B25: TRƯỞNG KHOA | D25: TRƯỞNG BỘ MÔN | G25: GIÁO VIÊN BỘ MÔN
D30: Trần Đình Khải | G30: Trần Đình Khải
